BEGIN:VCALENDAR
VERSION:2.0
PRODID:-//eventon.com NONSGML v1.0//EN
CALSCALE:GREGORIAN
METHOD:PUBLISH
BEGIN:VEVENT
UID:69e9ded9494e8
DTSTAMP:20260423T085657Z
DTSTART:20250327T140000Z
DTEND:20250327T163000Z
LOCATION:Gymnasium Berchtesgaden Am Anzenbachfeld 1 83471 Berchtesgaden
SUMMARY:Tag der Offenen Tür
DESCRIPTION:„Tag der Offenen Tür“ am Donnerstag\,  den 27.03.25\,  von
  15:00 Uhr bis 17:30 Uhr &nbsp; Liebe Viertklässlerinnen und Viertklässle
 r\,  liebe Eltern\,  wir laden euch und Sie herzlich zu unserem „Tag der 
 Offenen Tür“ am Donnerstag\,  den 27.03.25\,  von 15:00 Uhr bis 17:30 Uh
 r ein. Seid bereit für ein aufregendes Abenteuer.[..]\nhttps://www.gymbgd.
 de/veranstaltung/tag-der-offenen-tuer/
URL:https://www.gymbgd.de/veranstaltung/tag-der-offenen-tuer/
END:VEVENT
END:VCALENDAR