BEGIN:VCALENDAR
VERSION:2.0
PRODID:-//eventon.com NONSGML v1.0//EN
CALSCALE:GREGORIAN
METHOD:PUBLISH
BEGIN:VEVENT
UID:69e9e6c65bf04
DTSTAMP:20260423T093046Z
DTSTART:20250505T071500Z
DTEND:20250508T160000Z
LOCATION:Gymnasium Berchtesgaden Am Anzenbachfeld 1 83471 Berchtesgaden
SUMMARY:Einschreibung 5. Klasse
DESCRIPTION:NEUAUFNAHME IN DAS GYMNASIUM BERCHTESGADEN 5. JAHRGANGSSTUFE Mo
 ntag\,  05. Mai bis Donnerstag\,  08. Mai 2025 jeweils von 7:15 Uhr bis 16:
 00 Uhr Die Anmeldung für die Aufnahme in die 5. Jahrgangsstufe des Gymnasi
 ums Berchtesgaden für das Schuljahr 2025/2026 findet an den oben genannten
  Terminen im Sekretariat der Schule statt. Zur[..]\nhttps://www.gymbgd.de/v
 eranstaltung/einschreibung-5-klasse-2/
URL:https://www.gymbgd.de/veranstaltung/einschreibung-5-klasse-2/
END:VEVENT
END:VCALENDAR